BEGIN:VCALENDAR
VERSION:2.0
PRODID:-//ChamberMaster//Event Calendar 2.0//EN
METHOD:PUBLISH
X-PUBLISHED-TTL:P3D
REFRESH-INTERVAL:P3D
CALSCALE:GREGORIAN
BEGIN:VEVENT
DTSTART:20251109T190000Z
DTEND:20251109T210000Z
X-MICROSOFT-CDO-ALLDAYEVENT:FALSE
SUMMARY:CPR Certification at Marketplace
DESCRIPTION:This course is designed for citizen-rescuers at work\, home\, or in the community. The content includes CPR/AED information for all ages. The course is approved by numerous agencies and organizations throughout the United States. CPR/AED and First Aid Guidelines from EMS Safety reflect the 2020 International Consensus on CPR and ECC Science and the International First Aid Science Advisory Board.  Course includes a 2 year certifications card for Adult\, Child\, Infant CPR/AED & First Aid.
X-ALT-DESC;FMTTYPE=text/html:<span style="font-size:12px\;"><span style="color: rgb(94\, 94\, 94)\; font-family: Helvetica\, arial\, sans-serif\; text-align: center\;">This course is designed for citizen-rescuers at work\, home\, or in the community. The content includes CPR/AED information for all ages. The course is approved by numerous agencies and organizations throughout the United States. CPR/AED and First Aid&nbsp\;Guidelines from EMS Safety reflect the 2020 International Consensus on CPR and ECC Science and the International First Aid Science Advisory Board.&nbsp\;</span></span><span style="color: rgb(94\, 94\, 94)\; font-family: Helvetica\, arial\, sans-serif\; font-size: 18px\; text-align: center\;">&nbsp\;<span style="font-size:12px\;">Course includes a 2 year certifications card for Adult\, Child\, Infant CPR/AED &amp\; First Aid.</span></span>
LOCATION:Tuscany Hotel and Casino. Room to be determined.
UID:e.9061.806
SEQUENCE:3
DTSTAMP:20260421T144942Z
URL:http://business.nicainc.org/events/details/cpr-certification-at-marketplace-806
END:VEVENT

END:VCALENDAR
