BEGIN:VCALENDAR
VERSION:2.0
PRODID:-//ChamberMaster//Event Calendar 2.0//EN
METHOD:PUBLISH
X-PUBLISHED-TTL:P3D
REFRESH-INTERVAL:P3D
CALSCALE:GREGORIAN
BEGIN:VEVENT
DTSTART:20251112T140000Z
DTEND:20251112T180000Z
X-MICROSOFT-CDO-ALLDAYEVENT:FALSE
SUMMARY:Sysco-Las Vegas Tour at NICA Marketplace
DESCRIPTION:At 9 AM on Wednesday\, November 12th\, we will gather to board the buses at the Tuscany Hotel Lobby Entrance. Sysco will offer a FREE facility tour\, a product showcase\, and a light lunch to all who attend. Thank you to Sysco-Las Vegas for your hospitality! See you there!
X-ALT-DESC;FMTTYPE=text/html:At 9 AM on Wednesday\, November 12th\, we will gather to board the buses at the Tuscany Hotel Lobby Entrance. Sysco will offer a FREE facility tour\, a product showcase\, and a light lunch to all who attend. Thank you to Sysco-Las Vegas for your hospitality! See you there!
LOCATION:Sysco-Las Vegas (Bus departs from Tuscany Suites main entrance)
UID:e.9061.807
SEQUENCE:3
DTSTAMP:20260421T160713Z
URL:http://business.nicainc.org/events/details/sysco-las-vegas-tour-at-nica-marketplace-807
END:VEVENT

END:VCALENDAR
